



BEGIN:VCALENDAR
VERSION:2.0
PRODID:-//wp-events-plugin.com//7.2.3.1//EN
BEGIN:VEVENT
UID:7534@labo-emc.org
DTSTART:20260210T123000Z
DTEND:20260210T140000Z
DTSTAMP:20260206T065631Z
URL:https://labo-emc.org/reservation/events/zitouni_dutriaux/
SUMMARY:Zitouni_Dutriaux
DESCRIPTION:
CATEGORIES:Salle C17D
END:VEVENT
END:VCALENDAR