



BEGIN:VCALENDAR
VERSION:2.0
PRODID:-//wp-events-plugin.com//7.2.3.1//EN
BEGIN:VEVENT
UID:7895@labo-emc.org
DTSTART:20260306T113000Z
DTEND:20260306T120000Z
DTSTAMP:20260305T175139Z
URL:https://labo-emc.org/reservation/events/zitouni-dutriaux-9/
SUMMARY:Zitouni-Dutriaux
DESCRIPTION:
CATEGORIES:Salle C17J
END:VEVENT
END:VCALENDAR