



BEGIN:VCALENDAR
VERSION:2.0
PRODID:-//wp-events-plugin.com//7.2.3.1//EN
BEGIN:VEVENT
UID:7883@labo-emc.org
DTSTART:20260312T140000Z
DTEND:20260312T151500Z
DTSTAMP:20260305T162613Z
URL:https://labo-emc.org/reservation/events/zitouni-dutriaux-7/
SUMMARY:Zitouni-Dutriaux
DESCRIPTION:
CATEGORIES:Salle C17N - EyeLink
END:VEVENT
END:VCALENDAR