



BEGIN:VCALENDAR
VERSION:2.0
PRODID:-//wp-events-plugin.com//7.2.3.1//EN
BEGIN:VEVENT
UID:7860@labo-emc.org
DTSTART:20260310T100000Z
DTEND:20260310T111500Z
DTSTAMP:20260304T140818Z
URL:https://labo-emc.org/reservation/events/zitouni-dutriaux-6/
SUMMARY:Zitouni-Dutriaux
DESCRIPTION:
CATEGORIES:Salle C17D
END:VEVENT
END:VCALENDAR