



BEGIN:VCALENDAR
VERSION:2.0
PRODID:-//wp-events-plugin.com//7.2.3.1//EN
BEGIN:VEVENT
UID:7848@labo-emc.org
DTSTART:20260306T103000Z
DTEND:20260306T113000Z
DTSTAMP:20260303T130139Z
URL:https://labo-emc.org/reservation/events/zitouni-dutriaux-5/
SUMMARY:Zitouni-Dutriaux
DESCRIPTION:
CATEGORIES:Salle C17J
END:VEVENT
END:VCALENDAR