



BEGIN:VCALENDAR
VERSION:2.0
PRODID:-//wp-events-plugin.com//7.2.3.1//EN
BEGIN:VEVENT
UID:7735@labo-emc.org
DTSTART:20260304T100000Z
DTEND:20260304T111500Z
DTSTAMP:20260224T130810Z
URL:https://labo-emc.org/reservation/events/zitouni-dutriaux-2/
SUMMARY:Zitouni-Dutriaux
DESCRIPTION:
CATEGORIES:Salle C17D
END:VEVENT
END:VCALENDAR