



BEGIN:VCALENDAR
VERSION:2.0
PRODID:-//wp-events-plugin.com//7.2.3.1//EN
BEGIN:VEVENT
UID:8101@labo-emc.org
DTSTART:20260324T123000Z
DTEND:20260324T130000Z
DTSTAMP:20260324T092616Z
URL:https://labo-emc.org/reservation/events/zitouni-dutriaux-18/
SUMMARY:Zitouni-Dutriaux
DESCRIPTION:
CATEGORIES:Salle C17D
END:VEVENT
END:VCALENDAR