



BEGIN:VCALENDAR
VERSION:2.0
PRODID:-//wp-events-plugin.com//7.2.3.1//EN
BEGIN:VEVENT
UID:8066@labo-emc.org
DTSTART:20260324T130000Z
DTEND:20260324T134500Z
DTSTAMP:20260320T093113Z
URL:https://labo-emc.org/reservation/events/zitouni-dutriaux-14/
SUMMARY:Zitouni-Dutriaux
DESCRIPTION:
CATEGORIES:Salle C17D
END:VEVENT
END:VCALENDAR