



BEGIN:VCALENDAR
VERSION:2.0
PRODID:-//wp-events-plugin.com//7.2.3.1//EN
BEGIN:VEVENT
UID:7896@labo-emc.org
DTSTART:20260306T120000Z
DTEND:20260306T123000Z
DTSTAMP:20260305T175501Z
URL:https://labo-emc.org/reservation/events/zitouni-dutriaux-10/
SUMMARY:Zitouni-Dutriaux
DESCRIPTION:
CATEGORIES:Salle C17J
END:VEVENT
END:VCALENDAR