



BEGIN:VCALENDAR
VERSION:2.0
PRODID:-//wp-events-plugin.com//7.2.3.1//EN
BEGIN:VEVENT
UID:8083@labo-emc.org
DTSTART:20260327T110000Z
DTEND:20260327T120000Z
DTSTAMP:20260322T162904Z
URL:https://labo-emc.org/reservation/events/westerski-2/
SUMMARY:Westerski
DESCRIPTION:
CATEGORIES:Salle C17M
END:VEVENT
END:VCALENDAR