



BEGIN:VCALENDAR
VERSION:2.0
PRODID:-//wp-events-plugin.com//7.2.3.1//EN
BEGIN:VEVENT
UID:6186@labo-emc.org
DTSTART:20250228T161500Z
DTEND:20250228T174500Z
DTSTAMP:20260421T154609Z
URL:
SUMMARY:OUDART CAUDRELIER
DESCRIPTION:
END:VEVENT
END:VCALENDAR