



BEGIN:VCALENDAR
VERSION:2.0
PRODID:-//wp-events-plugin.com//7.2.3.1//EN
BEGIN:VEVENT
UID:6185@labo-emc.org
DTSTART:20250227T163000Z
DTEND:20250227T180000Z
DTSTAMP:20260421T154609Z
URL:
SUMMARY:WANDJI CAUDRELIER
DESCRIPTION:
END:VEVENT
END:VCALENDAR