



BEGIN:VCALENDAR
VERSION:2.0
PRODID:-//wp-events-plugin.com//7.2.3.1//EN
BEGIN:VEVENT
UID:6183@labo-emc.org
DTSTART:20250224T093000Z
DTEND:20250224T113000Z
DTSTAMP:20260421T171605Z
URL:
SUMMARY:WANDJI CAUDRELIER
DESCRIPTION:
END:VEVENT
END:VCALENDAR