



BEGIN:VCALENDAR
VERSION:2.0
PRODID:-//wp-events-plugin.com//7.2.3.1//EN
BEGIN:VEVENT
UID:6271@labo-emc.org
DTSTART:20250314T100000Z
DTEND:20250314T160000Z
DTSTAMP:20250306T123546Z
URL:https://labo-emc.org/reservation/events/walter_plancher-3/
SUMMARY:Walter_Plancher
DESCRIPTION:
CATEGORIES:Salle C17O
END:VEVENT
END:VCALENDAR