



BEGIN:VCALENDAR
VERSION:2.0
PRODID:-//wp-events-plugin.com//7.2.3.1//EN
BEGIN:VEVENT
UID:5762@labo-emc.org
DTSTART:20241122T104500Z
DTEND:20241122T114500Z
DTSTAMP:20241121T092035Z
URL:https://labo-emc.org/reservation/events/valentin-9/
SUMMARY:Valentin
DESCRIPTION:
CATEGORIES:Salle C17K
END:VEVENT
END:VCALENDAR