



BEGIN:VCALENDAR
VERSION:2.0
PRODID:-//wp-events-plugin.com//7.2.3.1//EN
BEGIN:VEVENT
UID:7432@labo-emc.org
DTSTART:20260209T120000Z
DTEND:20260209T131500Z
DTSTAMP:20260129T195118Z
URL:https://labo-emc.org/reservation/events/uysal-collet-6/
SUMMARY:Uysal - Collet
DESCRIPTION:
CATEGORIES:Salle C17L
END:VEVENT
END:VCALENDAR