



BEGIN:VCALENDAR
VERSION:2.0
PRODID:-//wp-events-plugin.com//7.2.3.1//EN
BEGIN:VEVENT
UID:8013@labo-emc.org
DTSTART:20260324T120000Z
DTEND:20260324T131500Z
DTSTAMP:20260314T160704Z
URL:https://labo-emc.org/reservation/events/uysal-collet-12/
SUMMARY:Uysal Collet
DESCRIPTION:
CATEGORIES:Salle C17L
END:VEVENT
END:VCALENDAR