



BEGIN:VCALENDAR
VERSION:2.0
PRODID:-//wp-events-plugin.com//7.2.3.1//EN
BEGIN:VEVENT
UID:8012@labo-emc.org
DTSTART:20260317T120000Z
DTEND:20260317T134500Z
DTSTAMP:20260314T160239Z
URL:https://labo-emc.org/reservation/events/uysal-collet-11/
SUMMARY:Uysal Collet
DESCRIPTION:
CATEGORIES:Salle C17O
END:VEVENT
END:VCALENDAR