



BEGIN:VCALENDAR
VERSION:2.0
PRODID:-//wp-events-plugin.com//7.2.3.1//EN
BEGIN:VEVENT
UID:7863@labo-emc.org
DTSTART:20260305T121500Z
DTEND:20260305T134500Z
DTSTAMP:20260304T201303Z
URL:https://labo-emc.org/reservation/events/trippied-colliot-7/
SUMMARY:TRIPPIED - COLLIOT
DESCRIPTION:
CATEGORIES:Salle C17L
END:VEVENT
END:VCALENDAR