



BEGIN:VCALENDAR
VERSION:2.0
PRODID:-//wp-events-plugin.com//7.2.3.1//EN
BEGIN:VEVENT
UID:7718@labo-emc.org
DTSTART:20260304T100000Z
DTEND:20260304T143000Z
DTSTAMP:20260223T154840Z
URL:https://labo-emc.org/reservation/events/trippied-colliot-4/
SUMMARY:TRIPPIED - COLLIOT
DESCRIPTION:
CATEGORIES:Salle C17M
END:VEVENT
END:VCALENDAR