



BEGIN:VCALENDAR
VERSION:2.0
PRODID:-//wp-events-plugin.com//7.2.3.1//EN
BEGIN:VEVENT
UID:7638@labo-emc.org
DTSTART:20260213T120000Z
DTEND:20260213T130000Z
DTSTAMP:20260213T111533Z
URL:https://labo-emc.org/reservation/events/trippied-colliot-2/
SUMMARY:TRIPPIED-COLLIOT
DESCRIPTION:
CATEGORIES:Salle C17M
END:VEVENT
END:VCALENDAR