



BEGIN:VCALENDAR
VERSION:2.0
PRODID:-//wp-events-plugin.com//7.2.3.1//EN
BEGIN:VEVENT
UID:7709@labo-emc.org
DTSTART:20260224T160000Z
DTEND:20260224T180000Z
DTSTAMP:20260223T151701Z
URL:https://labo-emc.org/reservation/events/spielmann-michael-6/
SUMMARY:SPIELMANN - MICHAEL
DESCRIPTION:
CATEGORIES:Salle C17K
END:VEVENT
END:VCALENDAR