



BEGIN:VCALENDAR
VERSION:2.0
PRODID:-//wp-events-plugin.com//7.2.3.1//EN
BEGIN:VEVENT
UID:7543@labo-emc.org
DTSTART:20260212T110000Z
DTEND:20260212T143000Z
DTSTAMP:20260206T094631Z
URL:https://labo-emc.org/reservation/events/spielmann-michael-5/
SUMMARY:SPIELMANN - MICHAEL
DESCRIPTION:
CATEGORIES:Salle C17K
END:VEVENT
END:VCALENDAR