



BEGIN:VCALENDAR
VERSION:2.0
PRODID:-//wp-events-plugin.com//7.2.3.1//EN
BEGIN:VEVENT
UID:7625@labo-emc.org
DTSTART:20260212T114500Z
DTEND:20260212T134500Z
DTSTAMP:20260212T103718Z
URL:https://labo-emc.org/reservation/events/spielmann-michael-3/
SUMMARY:SPIELMANN - MICHAEL
DESCRIPTION:
CATEGORIES:Salle C17O
END:VEVENT
END:VCALENDAR