



BEGIN:VCALENDAR
VERSION:2.0
PRODID:-//wp-events-plugin.com//7.2.3.1//EN
BEGIN:VEVENT
UID:7540@labo-emc.org
DTSTART:20260210T120000Z
DTEND:20260210T140000Z
DTSTAMP:20260206T094244Z
URL:https://labo-emc.org/reservation/events/spielmann-michael-2/
SUMMARY:SPIELMANN - MICHAEL
DESCRIPTION:
CATEGORIES:Salle C17K
END:VEVENT
END:VCALENDAR