



BEGIN:VCALENDAR
VERSION:2.0
PRODID:-//wp-events-plugin.com//7.2.3.1//EN
BEGIN:VEVENT
UID:7874@labo-emc.org
DTSTART:20260312T140000Z
DTEND:20260312T180000Z
DTSTAMP:20260305T134359Z
URL:https://labo-emc.org/reservation/events/spielmann-michael-15/
SUMMARY:SPIELMANN - MICHAEL
DESCRIPTION:
CATEGORIES:Salle C17M
END:VEVENT
END:VCALENDAR