



BEGIN:VCALENDAR
VERSION:2.0
PRODID:-//wp-events-plugin.com//7.2.3.1//EN
BEGIN:VEVENT
UID:7873@labo-emc.org
DTSTART:20260310T160000Z
DTEND:20260310T180000Z
DTSTAMP:20260305T133252Z
URL:https://labo-emc.org/reservation/events/spielmann-michael-14/
SUMMARY:SPIELMANN - MICHAEL
DESCRIPTION:
CATEGORIES:Salle C17i
END:VEVENT
END:VCALENDAR