



BEGIN:VCALENDAR
VERSION:2.0
PRODID:-//wp-events-plugin.com//7.2.3.1//EN
BEGIN:VEVENT
UID:7608@labo-emc.org
DTSTART:20260213T124500Z
DTEND:20260213T153000Z
DTSTAMP:20260211T140549Z
URL:https://labo-emc.org/reservation/events/sakkinen-duran/
SUMMARY:SAKKINEN Duran
DESCRIPTION:
CATEGORIES:Salle C17J
END:VEVENT
END:VCALENDAR