



BEGIN:VCALENDAR
VERSION:2.0
PRODID:-//wp-events-plugin.com//7.2.3.1//EN
BEGIN:VEVENT
UID:8218@labo-emc.org
DTSTART:20260421T160000Z
DTEND:20260421T180000Z
DTSTAMP:20260421T112556Z
URL:https://labo-emc.org/reservation/events/sakkinen-duran-9/
SUMMARY:Sakkinen Duran
DESCRIPTION:
CATEGORIES:Salle C17J
END:VEVENT
END:VCALENDAR