



BEGIN:VCALENDAR
VERSION:2.0
PRODID:-//wp-events-plugin.com//7.2.3.1//EN
BEGIN:VEVENT
UID:8204@labo-emc.org
DTSTART:20260422T094500Z
DTEND:20260422T114500Z
DTSTAMP:20260416T153155Z
URL:https://labo-emc.org/reservation/events/sakkinen-duran-8/
SUMMARY:Säkkinen - Duran
DESCRIPTION:
CATEGORIES:Salle C17J
END:VEVENT
END:VCALENDAR