



BEGIN:VCALENDAR
VERSION:2.0
PRODID:-//wp-events-plugin.com//7.2.3.1//EN
BEGIN:VEVENT
UID:7738@labo-emc.org
DTSTART:20260306T153000Z
DTEND:20260306T170000Z
DTSTAMP:20260225T063942Z
URL:https://labo-emc.org/reservation/events/sakkinen-duran-3/
SUMMARY:Säkkinen - DURAN
DESCRIPTION:
CATEGORIES:Salle C17D
END:VEVENT
END:VCALENDAR