



BEGIN:VCALENDAR
VERSION:2.0
PRODID:-//wp-events-plugin.com//7.2.3.1//EN
BEGIN:VEVENT
UID:7737@labo-emc.org
DTSTART:20260227T140000Z
DTEND:20260227T160000Z
DTSTAMP:20260224T200117Z
URL:https://labo-emc.org/reservation/events/sakkinen-duran-2/
SUMMARY:Säkkinen - DURAN
DESCRIPTION:
CATEGORIES:Salle C17L
END:VEVENT
END:VCALENDAR