



BEGIN:VCALENDAR
VERSION:2.0
PRODID:-//wp-events-plugin.com//7.2.3.1//EN
BEGIN:VEVENT
UID:7451@labo-emc.org
DTSTART:20260205T140000Z
DTEND:20260205T170000Z
DTSTAMP:20260130T143619Z
URL:https://labo-emc.org/reservation/events/revillard-99/
SUMMARY:Revillard
DESCRIPTION:
CATEGORIES:Salle C17L
END:VEVENT
END:VCALENDAR