



BEGIN:VCALENDAR
VERSION:2.0
PRODID:-//wp-events-plugin.com//7.2.3.1//EN
BEGIN:VEVENT
UID:7365@labo-emc.org
DTSTART:20260129T140000Z
DTEND:20260129T170000Z
DTSTAMP:20260125T123432Z
URL:https://labo-emc.org/reservation/events/revillard-93/
SUMMARY:Revillard
DESCRIPTION:
CATEGORIES:Salle C17K
END:VEVENT
END:VCALENDAR