



BEGIN:VCALENDAR
VERSION:2.0
PRODID:-//wp-events-plugin.com//7.2.3.1//EN
BEGIN:VEVENT
UID:7315@labo-emc.org
DTSTART:20260122T140000Z
DTEND:20260122T170000Z
DTSTAMP:20260115T133800Z
URL:https://labo-emc.org/reservation/events/revillard-84/
SUMMARY:Revillard
DESCRIPTION:
CATEGORIES:Salle C17A/B - EEG/Physio
END:VEVENT
END:VCALENDAR