



BEGIN:VCALENDAR
VERSION:2.0
PRODID:-//wp-events-plugin.com//7.2.3.1//EN
BEGIN:VEVENT
UID:7135@labo-emc.org
DTSTART:20251106T130000Z
DTEND:20251106T170000Z
DTSTAMP:20251103T141131Z
URL:https://labo-emc.org/reservation/events/revillard-74/
SUMMARY:Revillard
DESCRIPTION:
CATEGORIES:Salle C17i,Salle C17K,Salle C17L
END:VEVENT
END:VCALENDAR