



BEGIN:VCALENDAR
VERSION:2.0
PRODID:-//wp-events-plugin.com//7.2.3.1//EN
BEGIN:VEVENT
UID:7107@labo-emc.org
DTSTART:20251024T140000Z
DTEND:20251024T153000Z
DTSTAMP:20251021T132947Z
URL:https://labo-emc.org/reservation/events/revillard-71/
SUMMARY:Revillard
DESCRIPTION:
CATEGORIES:Salle C17L
END:VEVENT
END:VCALENDAR