



BEGIN:VCALENDAR
VERSION:2.0
PRODID:-//wp-events-plugin.com//7.2.3.1//EN
BEGIN:VEVENT
UID:7100@labo-emc.org
DTSTART:20251020T144500Z
DTEND:20251020T160000Z
DTSTAMP:20251020T120615Z
URL:https://labo-emc.org/reservation/events/revillard-66/
SUMMARY:Revillard
DESCRIPTION:
CATEGORIES:Salle C17L
END:VEVENT
END:VCALENDAR