



BEGIN:VCALENDAR
VERSION:2.0
PRODID:-//wp-events-plugin.com//7.2.3.1//EN
BEGIN:VEVENT
UID:8108@labo-emc.org
DTSTART:20260409T140000Z
DTEND:20260409T170000Z
DTSTAMP:20260324T135703Z
URL:https://labo-emc.org/reservation/events/revillard-117/
SUMMARY:Revillard
DESCRIPTION:
CATEGORIES:Salle C17i
END:VEVENT
END:VCALENDAR