



BEGIN:VCALENDAR
VERSION:2.0
PRODID:-//wp-events-plugin.com//7.2.3.1//EN
BEGIN:VEVENT
UID:7858@labo-emc.org
DTSTART:20260306T140000Z
DTEND:20260306T163000Z
DTSTAMP:20260306T134612Z
URL:https://labo-emc.org/reservation/events/revillard-113/
SUMMARY:Revillard
DESCRIPTION:
CATEGORIES:Salle C17D
END:VEVENT
END:VCALENDAR