



BEGIN:VCALENDAR
VERSION:2.0
PRODID:-//wp-events-plugin.com//7.2.3.1//EN
BEGIN:VEVENT
UID:7687@labo-emc.org
DTSTART:20260223T143000Z
DTEND:20260223T151500Z
DTSTAMP:20260220T110909Z
URL:https://labo-emc.org/reservation/events/pillot-hanna-chainay/
SUMMARY:Pillot - Hanna Chainay
DESCRIPTION:
CATEGORIES:Salle C17N - EyeLink
END:VEVENT
END:VCALENDAR