



BEGIN:VCALENDAR
VERSION:2.0
PRODID:-//wp-events-plugin.com//7.2.3.1//EN
BEGIN:VEVENT
UID:8220@labo-emc.org
DTSTART:20260429T133000Z
DTEND:20260429T160000Z
DTSTAMP:20260423T081213Z
URL:https://labo-emc.org/reservation/events/pillot-chainay-16/
SUMMARY:Pillot - Chainay
DESCRIPTION:
CATEGORIES:Salle C17N - EyeLink
END:VEVENT
END:VCALENDAR