



BEGIN:VCALENDAR
VERSION:2.0
PRODID:-//wp-events-plugin.com//7.2.3.1//EN
BEGIN:VEVENT
UID:8212@labo-emc.org
DTSTART:20260421T093000Z
DTEND:20260421T123000Z
DTSTAMP:20260420T130520Z
URL:https://labo-emc.org/reservation/events/pillot-chainay-15/
SUMMARY:Pillot - Chainay
DESCRIPTION:
CATEGORIES:Salle C17N - EyeLink
END:VEVENT
END:VCALENDAR