



BEGIN:VCALENDAR
VERSION:2.0
PRODID:-//wp-events-plugin.com//7.2.3.1//EN
BEGIN:VEVENT
UID:8211@labo-emc.org
DTSTART:20260422T133000Z
DTEND:20260422T164500Z
DTSTAMP:20260421T123556Z
URL:https://labo-emc.org/reservation/events/pillot-chainay-14/
SUMMARY:Pillot - Chainay
DESCRIPTION:
CATEGORIES:Salle C17N - EyeLink
END:VEVENT
END:VCALENDAR