



BEGIN:VCALENDAR
VERSION:2.0
PRODID:-//wp-events-plugin.com//7.2.3.1//EN
BEGIN:VEVENT
UID:8213@labo-emc.org
DTSTART:20260427T134500Z
DTEND:20260427T154500Z
DTSTAMP:20260420T131547Z
URL:https://labo-emc.org/reservation/events/pillot-chainay-13/
SUMMARY:Pillot - Chainay
DESCRIPTION:
CATEGORIES:Salle C17N - EyeLink
END:VEVENT
END:VCALENDAR