



BEGIN:VCALENDAR
VERSION:2.0
PRODID:-//wp-events-plugin.com//7.2.3.1//EN
BEGIN:VEVENT
UID:8206@labo-emc.org
DTSTART:20260420T140000Z
DTEND:20260420T170000Z
DTSTAMP:20260417T091442Z
URL:https://labo-emc.org/reservation/events/pillot-chainay-12/
SUMMARY:Pillot - Chainay
DESCRIPTION:
CATEGORIES:Salle C17N - EyeLink
END:VEVENT
END:VCALENDAR