



BEGIN:VCALENDAR
VERSION:2.0
PRODID:-//wp-events-plugin.com//7.2.3.1//EN
BEGIN:VEVENT
UID:7845@labo-emc.org
DTSTART:20260306T093000Z
DTEND:20260306T131500Z
DTSTAMP:20260303T072345Z
URL:https://labo-emc.org/reservation/events/perez-hernandez-stauffer-4/
SUMMARY:Pérez Hernandez - Stauffer
DESCRIPTION:
CATEGORIES:Salle C17E - fNIRS
END:VEVENT
END:VCALENDAR