



BEGIN:VCALENDAR
VERSION:2.0
PRODID:-//wp-events-plugin.com//7.2.3.1//EN
BEGIN:VEVENT
UID:7834@labo-emc.org
DTSTART:20260309T093000Z
DTEND:20260309T130000Z
DTSTAMP:20260302T145243Z
URL:https://labo-emc.org/reservation/events/perez-hernandez-stauffer-3/
SUMMARY:Pérez Hernandez - Stauffer
DESCRIPTION:
CATEGORIES:Salle C17E - fNIRS
END:VEVENT
END:VCALENDAR