



BEGIN:VCALENDAR
VERSION:2.0
PRODID:-//wp-events-plugin.com//7.2.3.1//EN
BEGIN:VEVENT
UID:7228@labo-emc.org
DTSTART:20251127T130000Z
DTEND:20251127T180000Z
DTSTAMP:20251120T170046Z
URL:https://labo-emc.org/reservation/events/pelerin-96/
SUMMARY:Pelerin
DESCRIPTION:
CATEGORIES:Salle C17G - Simulation Conduite
END:VEVENT
END:VCALENDAR