



BEGIN:VCALENDAR
VERSION:2.0
PRODID:-//wp-events-plugin.com//7.2.3.1//EN
BEGIN:VEVENT
UID:7070@labo-emc.org
DTSTART:20251015T130000Z
DTEND:20251015T150000Z
DTSTAMP:20251009T142333Z
URL:https://labo-emc.org/reservation/events/pelerin-81/
SUMMARY:Pelerin
DESCRIPTION:
CATEGORIES:Salle C17G - Simulation Conduite
END:VEVENT
END:VCALENDAR